BEGIN:VCALENDAR
VERSION:2.0
PRODID:-//85.13.146.64//NONSGML kigkonsult.se iCalcreator 2.20//
CALSCALE:GREGORIAN
METHOD:PUBLISH
X-WR-TIMEZONE:Europe/Berlin
BEGIN:VEVENT
UID:event246@Frauenbund Freyung
DTSTAMP:20260421T084559Z
CATEGORIES:Veranstaltung
DESCRIPTION:Fahrt zum Christkindlmarkt nach Kufstein\nKategorie: Veranstalt
 ung\nICS-Link: https://www.frauenbund-freyung.de/index.php?option=com_jem&
 view=event&id=246:fahrt-zum-christkindlmarkt-nach-kufstein\n
DTSTART;TZID=Europe/Berlin:20251122T090000
DTEND;TZID=Europe/Berlin:20251122T090000
SUMMARY:Fahrt zum Christkindlmarkt nach Kufstein
URL:https://www.frauenbund-freyung.de/index.php?option=com_jem&view=event&i
 d=246:fahrt-zum-christkindlmarkt-nach-kufstein
END:VEVENT
END:VCALENDAR
